BEGIN:VCALENDAR
VERSION:2.0
PRODID:-//SpaSpace Community - ECPv6.15.13//NONSGML v1.0//EN
CALSCALE:GREGORIAN
METHOD:PUBLISH
X-ORIGINAL-URL:https://community.spaspace.com
X-WR-CALDESC:Events for SpaSpace Community
REFRESH-INTERVAL;VALUE=DURATION:PT1H
X-Robots-Tag:noindex
X-PUBLISHED-TTL:PT1H
BEGIN:VTIMEZONE
TZID:America/Chicago
BEGIN:DAYLIGHT
TZOFFSETFROM:-0600
TZOFFSETTO:-0500
TZNAME:CDT
DTSTART:20240310T080000
END:DAYLIGHT
BEGIN:STANDARD
TZOFFSETFROM:-0500
TZOFFSETTO:-0600
TZNAME:CST
DTSTART:20241103T070000
END:STANDARD
BEGIN:DAYLIGHT
TZOFFSETFROM:-0600
TZOFFSETTO:-0500
TZNAME:CDT
DTSTART:20250309T080000
END:DAYLIGHT
BEGIN:STANDARD
TZOFFSETFROM:-0500
TZOFFSETTO:-0600
TZNAME:CST
DTSTART:20251102T070000
END:STANDARD
BEGIN:DAYLIGHT
TZOFFSETFROM:-0600
TZOFFSETTO:-0500
TZNAME:CDT
DTSTART:20260308T080000
END:DAYLIGHT
BEGIN:STANDARD
TZOFFSETFROM:-0500
TZOFFSETTO:-0600
TZNAME:CST
DTSTART:20261101T070000
END:STANDARD
END:VTIMEZONE
BEGIN:VEVENT
DTSTART;TZID=America/Chicago:20251128T080000
DTEND;TZID=America/Chicago:20251128T170000
DTSTAMP:20260423T115244
CREATED:20251129T020648Z
LAST-MODIFIED:20251129T020648Z
UID:6883-1764316800-1764349200@community.spaspace.com
SUMMARY:Stillness & Skin: A Hydration Ritual Workshop
DESCRIPTION:Nourish your skin and slow your pace with our February Sip & Spa Facial Class\, inspired by the journal prompt: \n“How can I find softness even in seasons of stillness?” \nThis hands-on\, 8-person workshop is guided by a certified SpaSpace esthetician and designed to bring warmth\, hydration\, and calm into the heart of winter. Enjoy light refreshments as you learn a personalized skincare ritual that supports both glow and grounding. \nYour Experience Includes: \n\nEpicuren Hydration Ritual – Learn how to layer products for maximum moisture\, nourishment\, and winter skin resilience.\nGuided Self-Massage – Gentle facial massage techniques to relax tension and enhance absorption.\nLavender Aromatherapy – A calming scent to encourage softness\, stillness\, and relaxation.\nExpert Instruction – Your esthetician will demonstrate each step and support you throughout the ritual.\n\nTakeaway \n\nA hydrating mask sample curated for your skin type\nYour February guided journal prompt card\n\nEnhance Your Experience \nIf you are unable to join the class\, you may book a discounted professional facial following the workshop and receive the February intention card as part of their service. \nCapacity \nThis intimate workshop is limited to 8 guests to allow for personalized support and hands-on guidance. \nFree for members.
URL:https://community.spaspace.com/event/stillness-skin-a-hydration-ritual-workshop/
LOCATION:SpaSpace Chicago\, 161 N Canal Street\, Chicago\, IL\, 60606\, United States
CATEGORIES:Skin Care Workshop
END:VEVENT
END:VCALENDAR